{
 "currentVersion": 11.5,
 "serviceDescription": "The Southwest Ontario Orthophotography (SWOOP) 2015 is an aerially acquired imagery data set. This product is 4 band RGBNiR orthophotography with a pixel resolution of 20 centimetres and is accurate to 50 centimetres on the ground at 90%. The dataset covers approximately 49,167 kilometres squared in Southwest Ontario. The imagery was acquired in the spring of 2015 under the best conditions possible to achieve cloud free, snow free, ice free, smoke free, and leaf off captures. These conditions together were best represented in Southwestern Ontario during April 12 to May 23 during which time the imagery was acquired. The imagery was acquired by aerial photography and was later orthorectified using an elevation dataset generated through image correlation. The acquisition was contracted out to Fugro Geospatial. An ADS100 Leica digital camera system was used to capture the imagery. This record represents metadata for the following data sets delivered by Fugro Geospatial: Orthorectified Imagery RGNiR 8 bit GeoTiff, Orthorectified RGBNiR 8 bit JPEG2000 10:1 Compression, Stereo Line Tiffs 16bit RGBNiR.",
 "serviceItemId": "c818007597734374993bee3399a6bf1e",
 "name": "Public/AirPhotos2015",
 "description": "The Southwest Ontario Orthophotography (SWOOP) 2015 is an aerially acquired imagery data set. This product is 4 band RGBNiR orthophotography with a pixel resolution of 20 centimetres and is accurate to 50 centimetres on the ground at 90%. The dataset covers approximately 49,167 kilometres squared in Southwest Ontario. The imagery was acquired in the spring of 2015 under the best conditions possible to achieve cloud free, snow free, ice free, smoke free, and leaf off captures. These conditions together were best represented in Southwestern Ontario during April 12 to May 23 during which time the imagery was acquired. The imagery was acquired by aerial photography and was later orthorectified using an elevation dataset generated through image correlation. The acquisition was contracted out to Fugro Geospatial. An ADS100 Leica digital camera system was used to capture the imagery. This record represents metadata for the following data sets delivered by Fugro Geospatial: Orthorectified Imagery RGNiR 8 bit GeoTiff, Orthorectified RGBNiR 8 bit JPEG2000 10:1 Compression, Stereo Line Tiffs 16bit RGBNiR.",
 "extent": {
  "xmin": -9033751.3285,
  "ymin": 5460009.648399997,
  "xmax": -8930375.9285,
  "ymax": 5600354.848399997,
  "spatialReference": {
   "wkid": 102100,
   "latestWkid": 3857
  }
 },
 "initialExtent": {
  "xmin": -9033751.3285,
  "ymin": 5460009.648399997,
  "xmax": -8930375.9285,
  "ymax": 5600354.848399997,
  "spatialReference": {
   "wkid": 102100,
   "latestWkid": 3857
  }
 },
 "fullExtent": {
  "xmin": -9033751.3285,
  "ymin": 5460009.648399997,
  "xmax": -8930375.9285,
  "ymax": 5600354.848399997,
  "spatialReference": {
   "wkid": 102100,
   "latestWkid": 3857
  }
 },
 "sortableFields": "",
 "bandCount": 4,
 "pixelType": "U8",
 "minValues": [
  0,
  0,
  0,
  0
 ],
 "maxValues": [
  255,
  255,
  255,
  255
 ],
 "meanValues": [
  71.52701259432648,
  77.62012999282418,
  56.2900215731431,
  166.09008911017204
 ],
 "stdvValues": [
  35.17713336724272,
  27.508265250828998,
  21.973148841927365,
  44.67758857740714
 ],
 "serviceProperties": "NorthWest<\/MosaicMethod>First<\/MosaicOperator>true<\/SortAscending><\/LockImageID>Name<\/TileOrderField>0<\/TileOrderBase>600.000000<\/AvgImageSpacingX>300.000000<\/AvgImageSpacingY>0.0<\/ViewPointX>0.0<\/ViewPointY>0.0<\/ViewPointDefShiftX>0.0<\/ViewPointDefShiftY>None<\/CompressionMethod>75<\/CompressionQuality>0.010000<\/CompressionTolerance>Bilinear<\/SamplingMethod><\/ImageServiceProperties><\/ImageServer>",
 "allowedFields": "Name,MinPS,MaxPS,LowPS,HighPS,Tag,GroupName,ProductName,CenterX,CenterY,ZOrder,Shape_Length,Shape_Area",
 "hasMultidimensions": false,
 "pixelSizeX": 0.20000000000000073,
 "pixelSizeY": 0.20000000000000026,
 "meanPixelSize": 0.2000000000000005,
 "datasetFormat": "AMD",
 "uncompressedSize": 1450821311904,
 "blockWidth": 2048,
 "blockHeight": 256,
 "compressionType": "None",
 "bandNames": [
  "Band_1",
  "Band_2",
  "Band_3",
  "Band_4"
 ],
 "allowCopy": true,
 "allowAnalysis": true,
 "itemAccess": false,
 "inspectionCapabilities": "",
 "minPixelSize": 0,
 "maxPixelSize": 0,
 "copyrightText": "",
 "serviceDataType": "esriImageServiceDataTypeGeneric",
 "serviceSourceType": "esriImageServiceSourceTypeMosaicDataset",
 "objectIdField": "OBJECTID",
 "fields": [
  {
   "name": "OBJECTID",
   "type": "esriFieldTypeOID",
   "alias": "OBJECTID",
   "domain": null
  },
  {
   "name": "Name",
   "type": "esriFieldTypeString",
   "alias": "Name",
   "domain": null,
   "length": 200
  },
  {
   "name": "MinPS",
   "type": "esriFieldTypeDouble",
   "alias": "MinPS",
   "domain": null
  },
  {
   "name": "MaxPS",
   "type": "esriFieldTypeDouble",
   "alias": "MaxPS",
   "domain": null
  },
  {
   "name": "LowPS",
   "type": "esriFieldTypeDouble",
   "alias": "LowPS",
   "domain": null
  },
  {
   "name": "HighPS",
   "type": "esriFieldTypeDouble",
   "alias": "HighPS",
   "domain": null
  },
  {
   "name": "Category",
   "type": "esriFieldTypeInteger",
   "alias": "Category",
   "domain": {
    "type": "codedValue",
    "name": "MosaicCatalogItemCategoryDomain",
    "description": "Catalog item categories.",
    "codedValues": [
     {
      "name": "Unknown",
      "code": 0
     },
     {
      "name": "Primary",
      "code": 1
     },
     {
      "name": "Overview",
      "code": 2
     },
     {
      "name": "Unprocessed Overview",
      "code": 3
     },
     {
      "name": "Partial Overview",
      "code": 4
     },
     {
      "name": "Uploaded",
      "code": 253
     },
     {
      "name": "Incomplete",
      "code": 254
     },
     {
      "name": "Custom",
      "code": 255
     }
    ],
    "mergePolicy": "esriMPTDefaultValue",
    "splitPolicy": "esriSPTDefaultValue"
   }
  },
  {
   "name": "Tag",
   "type": "esriFieldTypeString",
   "alias": "Tag",
   "domain": null,
   "length": 100
  },
  {
   "name": "GroupName",
   "type": "esriFieldTypeString",
   "alias": "GroupName",
   "domain": null,
   "length": 100
  },
  {
   "name": "ProductName",
   "type": "esriFieldTypeString",
   "alias": "ProductName",
   "domain": null,
   "length": 100
  },
  {
   "name": "CenterX",
   "type": "esriFieldTypeDouble",
   "alias": "CenterX",
   "domain": null
  },
  {
   "name": "CenterY",
   "type": "esriFieldTypeDouble",
   "alias": "CenterY",
   "domain": null
  },
  {
   "name": "ZOrder",
   "type": "esriFieldTypeInteger",
   "alias": "ZOrder",
   "domain": null
  },
  {
   "name": "Shape",
   "type": "esriFieldTypeGeometry",
   "alias": "Shape",
   "domain": null
  }
 ],
 "capabilities": "Catalog,Download,Image,Metadata",
 "defaultMosaicMethod": "Northwest",
 "allowedMosaicMethods": "NorthWest,Center,LockRaster,ByAttribute,Nadir,Viewpoint,Seamline,None",
 "sortField": "",
 "sortValue": null,
 "sortAscending": true,
 "mosaicOperator": "First",
 "maxDownloadSizeLimit": 2048,
 "defaultCompressionQuality": 75,
 "defaultResamplingMethod": "Bilinear",
 "maxImageHeight": 4100,
 "maxImageWidth": 15000,
 "maxRecordCount": 1000,
 "maxDownloadImageCount": 20,
 "maxMosaicImageCount": 20,
 "allowRasterFunction": true,
 "rasterFunctionInfos": [
  {
   "name": "None",
   "description": "A No-Op Function.",
   "help": ""
  }
 ],
 "rasterTypeInfos": [
  {
   "name": "Raster Dataset",
   "description": "Supports all ArcGIS Raster Datasets",
   "help": ""
  }
 ],
 "mensurationCapabilities": "None",
 "hasHistograms": true,
 "hasColormap": false,
 "hasRasterAttributeTable": false,
 "minScale": 0,
 "maxScale": 0,
 "exportTilesAllowed": false,
 "supportsStatistics": true,
 "supportsAdvancedQueries": true,
 "editFieldsInfo": null,
 "ownershipBasedAccessControlForRasters": null,
 "allowComputeTiePoints": false,
 "useStandardizedQueries": true,
 "advancedQueryCapabilities": {
  "useStandardizedQueries": true,
  "supportsStatistics": true,
  "supportsOrderBy": true,
  "supportsDistinct": true,
  "supportsPagination": true
 },
 "spatialReference": {
  "wkid": 102100,
  "latestWkid": 3857
 }
}
