View In:
ArcGIS JavaScript
ArcGIS Online Map Viewer
ArcGIS Earth
Service Description: The SWOOP2010 project was acquired with 20 cm resolution panchromatic imagery and 40 cm multi spectral in the spring of 2010. The imagery acquired is leaf off and includes approximately 45,000 sq km in an area covering Windsor to Tobermory and down to Niagara. Products include stereo imagery, 1 km x 1km pansharpened 20 cm orthophoto tiles with digital elevation points and significant breaklines. The accuracy requirement for the ortho tiles is 50 cm horizontal.
The orthophotography provides high-resolution, true colour aerial coverage for Southwestern Ontario. This data serves as a valuable information resource, providing a spatial context to features existing on the landscape in 2010. The orthophotos are considered foundational data and will be used in GIS analysis, remote sensing analysis, mapping, asset management, environmental management, planning, and for background reference data.
Name: Public/AirPhotos2010
Description: The SWOOP2010 project was acquired with 20 cm resolution panchromatic imagery and 40 cm multi spectral in the spring of 2010. The imagery acquired is leaf off and includes approximately 45,000 sq km in an area covering Windsor to Tobermory and down to Niagara. Products include stereo imagery, 1 km x 1km pansharpened 20 cm orthophoto tiles with digital elevation points and significant breaklines. The accuracy requirement for the ortho tiles is 50 cm horizontal.
The orthophotography provides high-resolution, true colour aerial coverage for Southwestern Ontario. This data serves as a valuable information resource, providing a spatial context to features existing on the landscape in 2010. The orthophotos are considered foundational data and will be used in GIS analysis, remote sensing analysis, mapping, asset management, environmental management, planning, and for background reference data.
Single Fused Map Cache: false
Extent:
XMin: -9033751.3285
YMin: 5460009.648399997
XMax: -8930375.9285
YMax: 5600354.848399997
Spatial Reference: 102100
(3857)
LatestVCSWkid(0)
Initial Extent:
XMin: -9033751.3285
YMin: 5460009.648399997
XMax: -8930375.9285
YMax: 5600354.848399997
Spatial Reference: 102100
(3857)
LatestVCSWkid(0)
Full Extent:
XMin: -9033751.3285
YMin: 5460009.648399997
XMax: -8930375.9285
YMax: 5600354.848399997
Spatial Reference: 102100
(3857)
LatestVCSWkid(0)
Pixel Size X: 0.20000000000000073
Pixel Size Y: 0.20000000000000026
Band Count: 4
Pixel Type: U8
RasterFunction Infos: {"rasterFunctionInfos": [{
"name": "None",
"description": "A No-Op Function.",
"help": ""
}]}
Mensuration Capabilities: Basic
Inspection Capabilities:
Has Histograms: true
Has Colormap: false
Has Multi Dimensions : false
Rendering Rule:
Min Scale: 0
Max Scale: 0
Copyright Text:
Service Data Type: esriImageServiceDataTypeGeneric
Min Values: 0, 1, 4, 0
Max Values: 251, 254, 255, 244
Mean Values: 112.79521536291635, 108.92599234334072, 86.38968675893922, 139.97557618685968
Standard Deviation Values: 37.20164135308014, 29.743239122770014, 28.014857765602628, 33.015949989004504
Object ID Field: OBJECTID
Fields:
-
OBJECTID
(
type: esriFieldTypeOID, alias: OBJECTID
)
-
Name
(
type: esriFieldTypeString, alias: Name, length: 50
)
-
MinPS
(
type: esriFieldTypeDouble, alias: MinPS
)
-
MaxPS
(
type: esriFieldTypeDouble, alias: MaxPS
)
-
LowPS
(
type: esriFieldTypeDouble, alias: LowPS
)
-
HighPS
(
type: esriFieldTypeDouble, alias: HighPS
)
-
Category
(
type: esriFieldTypeInteger, alias: Category
, Coded Values:
[0: Unknown]
, [1: Primary]
, [2: Overview]
, ...5 more...
)
-
Tag
(
type: esriFieldTypeString, alias: Tag, length: 20
)
-
GroupName
(
type: esriFieldTypeString, alias: GroupName, length: 50
)
-
ProductName
(
type: esriFieldTypeString, alias: ProductName, length: 50
)
-
CenterX
(
type: esriFieldTypeDouble, alias: CenterX
)
-
CenterY
(
type: esriFieldTypeDouble, alias: CenterY
)
-
ZOrder
(
type: esriFieldTypeInteger, alias: ZOrder
)
-
Shape
(
type: esriFieldTypeGeometry, alias: Shape
)
Default Mosaic Method: Northwest
Allowed Mosaic Methods: NorthWest,Center,LockRaster,ByAttribute,Nadir,Viewpoint,Seamline,None
SortField:
SortValue: null
Mosaic Operator: First
Default Compression Quality: 75
Default Resampling Method: Bilinear
Max Record Count: 1000
Max Image Height: 4100
Max Image Width: 15000
Max Download Image Count: 20
Max Mosaic Image Count: 20
Allow Raster Function: true
Allow Copy: true
Allow Analysis: true
Allow Compute TiePoints: false
Supports Statistics: true
Supports Advanced Queries: true
Use StandardizedQueries: true
Raster Type Infos:
Name: Raster Dataset
Description: Supports all ArcGIS Raster Datasets
Help:
Has Raster Attribute Table: false
Edit Fields Info: null
Ownership Based AccessControl For Rasters: null
Child Resources:
Info
Histograms
Statistics
Key Properties
Legend
Raster Function Infos
Supported Operations:
Export Image
Query
Identify
Measure
Compute Histograms
Compute Statistics Histograms
Get Samples
Compute Class Statistics
Query GPS Info
Find Images
Image to Map
Map to Image
Measure from Image
Image to Map Multiray
Query Boundary
Compute Pixel Location
Compute Angles
Validate
Project