View In:
ArcGIS JavaScript
ArcGIS Online Map Viewer
ArcGIS Earth
Service Description: The Southwest Ontario Orthophotography (SWOOP) 2015 is an aerially acquired imagery data set. This product is 4 band RGBNiR orthophotography with a pixel resolution of 20 centimetres and is accurate to 50 centimetres on the ground at 90%. The dataset covers approximately 49,167 kilometres squared in Southwest Ontario. The imagery was acquired in the spring of 2015 under the best conditions possible to achieve cloud free, snow free, ice free, smoke free, and leaf off captures. These conditions together were best represented in Southwestern Ontario during April 12 to May 23 during which time the imagery was acquired. The imagery was acquired by aerial photography and was later orthorectified using an elevation dataset generated through image correlation. The acquisition was contracted out to Fugro Geospatial. An ADS100 Leica digital camera system was used to capture the imagery. This record represents metadata for the following data sets delivered by Fugro Geospatial: Orthorectified Imagery RGNiR 8 bit GeoTiff, Orthorectified RGBNiR 8 bit JPEG2000 10:1 Compression, Stereo Line Tiffs 16bit RGBNiR.
Name: Public/AirPhotos2015
Description: The Southwest Ontario Orthophotography (SWOOP) 2015 is an aerially acquired imagery data set. This product is 4 band RGBNiR orthophotography with a pixel resolution of 20 centimetres and is accurate to 50 centimetres on the ground at 90%. The dataset covers approximately 49,167 kilometres squared in Southwest Ontario. The imagery was acquired in the spring of 2015 under the best conditions possible to achieve cloud free, snow free, ice free, smoke free, and leaf off captures. These conditions together were best represented in Southwestern Ontario during April 12 to May 23 during which time the imagery was acquired. The imagery was acquired by aerial photography and was later orthorectified using an elevation dataset generated through image correlation. The acquisition was contracted out to Fugro Geospatial. An ADS100 Leica digital camera system was used to capture the imagery. This record represents metadata for the following data sets delivered by Fugro Geospatial: Orthorectified Imagery RGNiR 8 bit GeoTiff, Orthorectified RGBNiR 8 bit JPEG2000 10:1 Compression, Stereo Line Tiffs 16bit RGBNiR.
Single Fused Map Cache: false
Extent:
XMin: -9033751.3285
YMin: 5460009.648399997
XMax: -8930375.9285
YMax: 5600354.848399997
Spatial Reference: 102100
(3857)
LatestVCSWkid(0)
Initial Extent:
XMin: -9033751.3285
YMin: 5460009.648399997
XMax: -8930375.9285
YMax: 5600354.848399997
Spatial Reference: 102100
(3857)
LatestVCSWkid(0)
Full Extent:
XMin: -9033751.3285
YMin: 5460009.648399997
XMax: -8930375.9285
YMax: 5600354.848399997
Spatial Reference: 102100
(3857)
LatestVCSWkid(0)
Pixel Size X: 0.20000000000000073
Pixel Size Y: 0.20000000000000026
Band Count: 4
Pixel Type: U8
RasterFunction Infos: {"rasterFunctionInfos": [{
"name": "None",
"description": "A No-Op Function.",
"help": ""
}]}
Mensuration Capabilities: None
Inspection Capabilities:
Has Histograms: true
Has Colormap: false
Has Multi Dimensions : false
Rendering Rule:
Min Scale: 0
Max Scale: 0
Copyright Text:
Service Data Type: esriImageServiceDataTypeGeneric
Min Values: 0, 0, 0, 0
Max Values: 255, 255, 255, 255
Mean Values: 71.52701259432648, 77.62012999282418, 56.2900215731431, 166.09008911017204
Standard Deviation Values: 35.17713336724272, 27.508265250828998, 21.973148841927365, 44.67758857740714
Object ID Field: OBJECTID
Fields:
-
OBJECTID
(
type: esriFieldTypeOID, alias: OBJECTID
)
-
Name
(
type: esriFieldTypeString, alias: Name, length: 200
)
-
MinPS
(
type: esriFieldTypeDouble, alias: MinPS
)
-
MaxPS
(
type: esriFieldTypeDouble, alias: MaxPS
)
-
LowPS
(
type: esriFieldTypeDouble, alias: LowPS
)
-
HighPS
(
type: esriFieldTypeDouble, alias: HighPS
)
-
Category
(
type: esriFieldTypeInteger, alias: Category
, Coded Values:
[0: Unknown]
, [1: Primary]
, [2: Overview]
, ...5 more...
)
-
Tag
(
type: esriFieldTypeString, alias: Tag, length: 100
)
-
GroupName
(
type: esriFieldTypeString, alias: GroupName, length: 100
)
-
ProductName
(
type: esriFieldTypeString, alias: ProductName, length: 100
)
-
CenterX
(
type: esriFieldTypeDouble, alias: CenterX
)
-
CenterY
(
type: esriFieldTypeDouble, alias: CenterY
)
-
ZOrder
(
type: esriFieldTypeInteger, alias: ZOrder
)
-
Shape
(
type: esriFieldTypeGeometry, alias: Shape
)
Default Mosaic Method: Northwest
Allowed Mosaic Methods: NorthWest,Center,LockRaster,ByAttribute,Nadir,Viewpoint,Seamline,None
SortField:
SortValue: null
Mosaic Operator: First
Default Compression Quality: 75
Default Resampling Method: Bilinear
Max Record Count: 1000
Max Image Height: 4100
Max Image Width: 15000
Max Download Image Count: 20
Max Mosaic Image Count: 20
Allow Raster Function: true
Allow Copy: true
Allow Analysis: true
Allow Compute TiePoints: false
Supports Statistics: true
Supports Advanced Queries: true
Use StandardizedQueries: true
Raster Type Infos:
Name: Raster Dataset
Description: Supports all ArcGIS Raster Datasets
Help:
Has Raster Attribute Table: false
Edit Fields Info: null
Ownership Based AccessControl For Rasters: null
Child Resources:
Info
Histograms
Statistics
Key Properties
Legend
Raster Function Infos
Supported Operations:
Export Image
Query
Identify
Download Rasters
Get Image Url
Compute Histograms
Compute Statistics Histograms
Get Samples
Compute Class Statistics
Query GPS Info
Find Images
Image to Map
Map to Image
Measure from Image
Image to Map Multiray
Query Boundary
Compute Pixel Location
Compute Angles
Validate
Project